BEGIN:VCALENDAR
VERSION:2.0
PRODID:-//Tukios.com/
BEGIN:VEVENT
UID:9e44854e-be53-41e5-b33d-eb81c098f397@www.winterhavenfunerals.com
DTSTAMP:20260425T122926Z
DTSTART:20260501T210000Z
DTEND:20260502T010000Z
SUMMARY:Visitation
DESCRIPTION:
URL:https://www.winterhavenfunerals.com/obituaries/louis-isaiah-perez
LOCATION: 250 S Commerce St  Big Wells TX 78830
GEO:28.5707531;-99.5692195
END:VEVENT
END:VCALENDAR