BEGIN:VCALENDAR
VERSION:2.0
PRODID:-//Tukios.com/
BEGIN:VEVENT
UID:19d479e5-af14-410e-82c6-2d2e34ee7843@www.winterhavenfunerals.com
DTSTAMP:20260425T122958Z
DTSTART:20260501T230000Z
DTEND:20260501T233000Z
SUMMARY:Rosary
DESCRIPTION:
URL:https://www.winterhavenfunerals.com/obituaries/louis-isaiah-perez
LOCATION: 250 S Commerce St  Big Wells TX 78830
GEO:28.5707531;-99.5692195
END:VEVENT
END:VCALENDAR