BEGIN:VCALENDAR
VERSION:2.0
PRODID:-//Tukios.com/
BEGIN:VEVENT
UID:fe506029-299c-4120-aefd-ed0b10d2590b@www.winterhavenfunerals.com
DTSTAMP:20260425T123126Z
DTSTART:20260502T190000Z
DTEND:20260502T200000Z
SUMMARY:Funeral Service
DESCRIPTION:
URL:https://www.winterhavenfunerals.com/obituaries/louis-isaiah-perez
LOCATION: 250 S Commerce St  Big Wells TX 78830
GEO:28.5707531;-99.5692195
END:VEVENT
END:VCALENDAR